BEGIN:VCALENDAR
VERSION:2.0
PRODID:-//INGENIO - ECPv6.15.20//NONSGML v1.0//EN
CALSCALE:GREGORIAN
METHOD:PUBLISH
X-WR-CALNAME:INGENIO
X-ORIGINAL-URL:https://www.ingenio.upv.es
X-WR-CALDESC:Eventos para INGENIO
REFRESH-INTERVAL;VALUE=DURATION:PT1H
X-Robots-Tag:noindex
X-PUBLISHED-TTL:PT1H
BEGIN:VTIMEZONE
TZID:Europe/Paris
BEGIN:DAYLIGHT
TZOFFSETFROM:+0100
TZOFFSETTO:+0200
TZNAME:CEST
DTSTART:20250330T010000
END:DAYLIGHT
BEGIN:STANDARD
TZOFFSETFROM:+0200
TZOFFSETTO:+0100
TZNAME:CET
DTSTART:20251026T010000
END:STANDARD
BEGIN:DAYLIGHT
TZOFFSETFROM:+0100
TZOFFSETTO:+0200
TZNAME:CEST
DTSTART:20260329T010000
END:DAYLIGHT
BEGIN:STANDARD
TZOFFSETFROM:+0200
TZOFFSETTO:+0100
TZNAME:CET
DTSTART:20261025T010000
END:STANDARD
BEGIN:DAYLIGHT
TZOFFSETFROM:+0100
TZOFFSETTO:+0200
TZNAME:CEST
DTSTART:20270328T010000
END:DAYLIGHT
BEGIN:STANDARD
TZOFFSETFROM:+0200
TZOFFSETTO:+0100
TZNAME:CET
DTSTART:20271031T010000
END:STANDARD
END:VTIMEZONE
BEGIN:VEVENT
DTSTART;TZID=Europe/Paris:20260609T090000
DTEND;TZID=Europe/Paris:20260609T200000
DTSTAMP:20260424T170751
CREATED:20260310T133226Z
LAST-MODIFIED:20260310T133414Z
UID:1918-1780995600-1781035200@www.ingenio.upv.es
SUMMARY:Early Career Event | Eu-SPRI 2026
DESCRIPTION:
URL:https://www.ingenio.upv.es/calendario/early-career-event/
CATEGORIES:Otras reuniones
END:VEVENT
END:VCALENDAR